BEGIN:VCALENDAR
VERSION:2.0
PRODID:-//Deep Water Blue - ECPv6.15.20//NONSGML v1.0//EN
CALSCALE:GREGORIAN
METHOD:PUBLISH
X-WR-CALNAME:Deep Water Blue
X-ORIGINAL-URL:https://www.deepwaterblue.co.uk
X-WR-CALDESC:Events for Deep Water Blue
REFRESH-INTERVAL;VALUE=DURATION:PT1H
X-Robots-Tag:noindex
X-PUBLISHED-TTL:PT1H
BEGIN:VTIMEZONE
TZID:Europe/London
BEGIN:DAYLIGHT
TZOFFSETFROM:+0000
TZOFFSETTO:+0100
TZNAME:BST
DTSTART:20190331T010000
END:DAYLIGHT
BEGIN:STANDARD
TZOFFSETFROM:+0100
TZOFFSETTO:+0000
TZNAME:GMT
DTSTART:20191027T010000
END:STANDARD
BEGIN:DAYLIGHT
TZOFFSETFROM:+0000
TZOFFSETTO:+0100
TZNAME:BST
DTSTART:20200329T010000
END:DAYLIGHT
BEGIN:STANDARD
TZOFFSETFROM:+0100
TZOFFSETTO:+0000
TZNAME:GMT
DTSTART:20201025T010000
END:STANDARD
BEGIN:DAYLIGHT
TZOFFSETFROM:+0000
TZOFFSETTO:+0100
TZNAME:BST
DTSTART:20210328T010000
END:DAYLIGHT
BEGIN:STANDARD
TZOFFSETFROM:+0100
TZOFFSETTO:+0000
TZNAME:GMT
DTSTART:20211031T010000
END:STANDARD
BEGIN:DAYLIGHT
TZOFFSETFROM:+0000
TZOFFSETTO:+0100
TZNAME:BST
DTSTART:20220327T010000
END:DAYLIGHT
BEGIN:STANDARD
TZOFFSETFROM:+0100
TZOFFSETTO:+0000
TZNAME:GMT
DTSTART:20221030T010000
END:STANDARD
BEGIN:DAYLIGHT
TZOFFSETFROM:+0000
TZOFFSETTO:+0100
TZNAME:BST
DTSTART:20230326T010000
END:DAYLIGHT
BEGIN:STANDARD
TZOFFSETFROM:+0100
TZOFFSETTO:+0000
TZNAME:GMT
DTSTART:20231029T010000
END:STANDARD
BEGIN:DAYLIGHT
TZOFFSETFROM:+0000
TZOFFSETTO:+0100
TZNAME:BST
DTSTART:20240331T010000
END:DAYLIGHT
BEGIN:STANDARD
TZOFFSETFROM:+0100
TZOFFSETTO:+0000
TZNAME:GMT
DTSTART:20241027T010000
END:STANDARD
BEGIN:DAYLIGHT
TZOFFSETFROM:+0000
TZOFFSETTO:+0100
TZNAME:BST
DTSTART:20250330T010000
END:DAYLIGHT
BEGIN:STANDARD
TZOFFSETFROM:+0100
TZOFFSETTO:+0000
TZNAME:GMT
DTSTART:20251026T010000
END:STANDARD
BEGIN:DAYLIGHT
TZOFFSETFROM:+0000
TZOFFSETTO:+0100
TZNAME:BST
DTSTART:20260329T010000
END:DAYLIGHT
BEGIN:STANDARD
TZOFFSETFROM:+0100
TZOFFSETTO:+0000
TZNAME:GMT
DTSTART:20261025T010000
END:STANDARD
BEGIN:DAYLIGHT
TZOFFSETFROM:+0000
TZOFFSETTO:+0100
TZNAME:BST
DTSTART:20270328T010000
END:DAYLIGHT
BEGIN:STANDARD
TZOFFSETFROM:+0100
TZOFFSETTO:+0000
TZNAME:GMT
DTSTART:20271031T010000
END:STANDARD
END:VTIMEZONE
BEGIN:VEVENT
DTSTART;TZID=Europe/London:20260616T000000
DTEND;TZID=Europe/London:20260617T235959
DTSTAMP:20260425T170338
CREATED:20260311T172408Z
LAST-MODIFIED:20260311T172418Z
UID:18588-1781568000-1781740799@www.deepwaterblue.co.uk
SUMMARY:Steam Boiler Water Treatment Training in support of BG04 Boiler Water Treatment Guidance for Shell Boilers\, Coil Boilers\, Steam Generators and Hot Water Boilers
DESCRIPTION:
URL:https://www.deepwaterblue.co.uk/event/steam-boiler-water-treatment-training-in-support-of-bg04-boiler-water-treatment-guidance-for-shell-boilers-coil-boilers-steam-generators-and-hot-water-boilers-2/
END:VEVENT
BEGIN:VEVENT
DTSTART;TZID=Europe/London:20260317T000000
DTEND;TZID=Europe/London:20260318T235959
DTSTAMP:20260425T170338
CREATED:20260311T172313Z
LAST-MODIFIED:20260311T172338Z
UID:18586-1773705600-1773878399@www.deepwaterblue.co.uk
SUMMARY:Steam Boiler Water Treatment Training in support of BG04 Boiler Water Treatment Guidance for Shell Boilers\, Coil Boilers\, Steam Generators and Hot Water Boilers
DESCRIPTION:
URL:https://www.deepwaterblue.co.uk/event/steam-boiler-water-treatment-training-in-support-of-bg04-boiler-water-treatment-guidance-for-shell-boilers-coil-boilers-steam-generators-and-hot-water-boilers/
END:VEVENT
BEGIN:VEVENT
DTSTART;TZID=Europe/London:20200930T080000
DTEND;TZID=Europe/London:20201001T170000
DTSTAMP:20260425T170338
CREATED:20200618T141521Z
LAST-MODIFIED:20200618T144210Z
UID:12257-1601452800-1601571600@www.deepwaterblue.co.uk
SUMMARY:Steam Boiler Water Treatment Awareness Course
DESCRIPTION:Deep Water Blue Ltd.\, in partnership with Human Focus International\, have launched the United Kingdom’s first online Boiler Water Treatment course\, related to BG04-“Boiler Water Treatment guidance for shell boilers\, coil boilers\, steam generators\, and hot water boilers”\, published by ICOM Energy Association and The Combustion Engineering Association (CEA).\n \n \nThe online e-Learning course is also approved by the Royal Society of Chemistry and aims to reach a wider audience to provide vital knowledge on boiler water treatment and steam system control.\n \n \nThe training course has been developed by Chartered Chemist Mick Casey who is a Fellow of The Royal Society of Chemistry\, a member of The Combustion Engineering Association’s\, Academy of Experts and a specialist in boiler water treatment training and consultancy support.\n \n \nThe course can be completed online\, via any desktop or mobile – there is a dedicated mobile app for both Apple and Android devices. The course covers the following topics and provides essential awareness training in boiler water treatment:\n \n \n \nYour Steam System\nWhy Do We Need Water Treatment in Our Steam System\nWater Pre-treatment\nInternal Water Treatment\nCondensate Water & Treatment\nThe Importance of Water Treatment Testing & Management\nPractical Case Studies\nSteam Water Treatment HSE Guidance & Best Practice\nThe Deep Water Blue Service Package
URL:https://www.deepwaterblue.co.uk/event/steam-boiler-water-treatment-awareness-course/
LOCATION:Online
ORGANIZER;CN="Human Focus/Deep Water Blue Ltd.":MAILTO:dwb@humanfocus.co.uk
END:VEVENT
BEGIN:VEVENT
DTSTART;TZID=Europe/London:20200206T080000
DTEND;TZID=Europe/London:20200206T170000
DTSTAMP:20260425T170338
CREATED:20200206T102314Z
LAST-MODIFIED:20200206T102405Z
UID:11853-1580976000-1581008400@www.deepwaterblue.co.uk
SUMMARY:test 3
DESCRIPTION:
URL:https://www.deepwaterblue.co.uk/event/test-3/
END:VEVENT
BEGIN:VEVENT
DTSTART;TZID=Europe/London:20200206T080000
DTEND;TZID=Europe/London:20200206T170000
DTSTAMP:20260425T170338
CREATED:20200206T102254Z
LAST-MODIFIED:20200206T102405Z
UID:11851-1580976000-1581008400@www.deepwaterblue.co.uk
SUMMARY:test 2
DESCRIPTION:
URL:https://www.deepwaterblue.co.uk/event/test-2/
END:VEVENT
BEGIN:VEVENT
DTSTART;TZID=Europe/London:20200206T080000
DTEND;TZID=Europe/London:20200206T170000
DTSTAMP:20260425T170338
CREATED:20200206T102056Z
LAST-MODIFIED:20200206T102405Z
UID:11849-1580976000-1581008400@www.deepwaterblue.co.uk
SUMMARY:test event
DESCRIPTION:
URL:https://www.deepwaterblue.co.uk/event/test-event/
END:VEVENT
END:VCALENDAR