BEGIN:VCALENDAR
VERSION:2.0
PRODID:-//Deep Water Blue - ECPv6.15.20//NONSGML v1.0//EN
CALSCALE:GREGORIAN
METHOD:PUBLISH
X-ORIGINAL-URL:https://www.deepwaterblue.co.uk
X-WR-CALDESC:Events for Deep Water Blue
REFRESH-INTERVAL;VALUE=DURATION:PT1H
X-Robots-Tag:noindex
X-PUBLISHED-TTL:PT1H
BEGIN:VTIMEZONE
TZID:Europe/London
BEGIN:DAYLIGHT
TZOFFSETFROM:+0000
TZOFFSETTO:+0100
TZNAME:BST
DTSTART:20250330T010000
END:DAYLIGHT
BEGIN:STANDARD
TZOFFSETFROM:+0100
TZOFFSETTO:+0000
TZNAME:GMT
DTSTART:20251026T010000
END:STANDARD
BEGIN:DAYLIGHT
TZOFFSETFROM:+0000
TZOFFSETTO:+0100
TZNAME:BST
DTSTART:20260329T010000
END:DAYLIGHT
BEGIN:STANDARD
TZOFFSETFROM:+0100
TZOFFSETTO:+0000
TZNAME:GMT
DTSTART:20261025T010000
END:STANDARD
BEGIN:DAYLIGHT
TZOFFSETFROM:+0000
TZOFFSETTO:+0100
TZNAME:BST
DTSTART:20270328T010000
END:DAYLIGHT
BEGIN:STANDARD
TZOFFSETFROM:+0100
TZOFFSETTO:+0000
TZNAME:GMT
DTSTART:20271031T010000
END:STANDARD
END:VTIMEZONE
BEGIN:VEVENT
DTSTART;TZID=Europe/London:20260616T000000
DTEND;TZID=Europe/London:20260617T235959
DTSTAMP:20260425T155801
CREATED:20260311T172408Z
LAST-MODIFIED:20260311T172418Z
UID:18588-1781568000-1781740799@www.deepwaterblue.co.uk
SUMMARY:Steam Boiler Water Treatment Training in support of BG04 Boiler Water Treatment Guidance for Shell Boilers\, Coil Boilers\, Steam Generators and Hot Water Boilers
DESCRIPTION:
URL:https://www.deepwaterblue.co.uk/event/steam-boiler-water-treatment-training-in-support-of-bg04-boiler-water-treatment-guidance-for-shell-boilers-coil-boilers-steam-generators-and-hot-water-boilers-2/
END:VEVENT
BEGIN:VEVENT
DTSTART;TZID=Europe/London:20260922T000000
DTEND;TZID=Europe/London:20260923T235959
DTSTAMP:20260425T155801
CREATED:20260311T172508Z
LAST-MODIFIED:20260311T172525Z
UID:18590-1790035200-1790207999@www.deepwaterblue.co.uk
SUMMARY:Steam Boiler Water Treatment Training in support of BG04 Boiler Water Treatment Guidance for Shell Boilers\, Coil Boilers\, Steam Generators and Hot Water Boilers
DESCRIPTION:
URL:https://www.deepwaterblue.co.uk/event/steam-boiler-water-treatment-training-in-support-of-bg04-boiler-water-treatment-guidance-for-shell-boilers-coil-boilers-steam-generators-and-hot-water-boilers-3/
END:VEVENT
BEGIN:VEVENT
DTSTART;TZID=Europe/London:20261124T000000
DTEND;TZID=Europe/London:20261125T235959
DTSTAMP:20260425T155801
CREATED:20260311T172627Z
LAST-MODIFIED:20260311T172643Z
UID:18592-1795478400-1795651199@www.deepwaterblue.co.uk
SUMMARY:Steam Boiler Water Treatment Training in support of BG04 Boiler Water Treatment Guidance for Shell Boilers\, Coil Boilers\, Steam Generators and Hot Water Boilers
DESCRIPTION:
URL:https://www.deepwaterblue.co.uk/event/steam-boiler-water-treatment-training-in-support-of-bg04-boiler-water-treatment-guidance-for-shell-boilers-coil-boilers-steam-generators-and-hot-water-boilers-4/
END:VEVENT
END:VCALENDAR